BEGIN:VCALENDAR
VERSION:2.0
PRODID:icalendar-ruby
CALSCALE:GREGORIAN
METHOD:PUBLISH
BEGIN:VEVENT
DTSTAMP:20260423T195507Z
UID:30-726912@plcmorris.org
DTSTART:20261006T150000Z
DTEND:20261006T160000Z
CLASS:PUBLIC
CREATED:20260423T144133
DESCRIPTION:Senior Yoga Classes every Tuesday &amp\; Thursday at 10:00 am a
 t Peace Lutheran Church.
LAST-MODIFIED:20260423T144133
LOCATION:Peace Lutheran Church
SUMMARY:Senior Yoga - Tuesday
URL;VALUE=URI:https://plcmorris.org/events/senior-yoga-tuesday/2026-10-06
ATTACH;FILENAME=Yoga.jpg;FMTTYPE=image/jpeg:https://dq5pwpg1q8ru0.cloudfron
 t.net/2022/03/31/09/31/27/71efc230-6ba4-46a0-84f9-1e5089d6e0e8/Yoga.jpg
END:VEVENT
END:VCALENDAR
